BEGIN:VCALENDAR
VERSION:2.0
PRODID:-//178.254.10.74//NONSGML kigkonsult.se iCalcreator 2.20//
CALSCALE:GREGORIAN
METHOD:PUBLISH
X-WR-TIMEZONE:Europe/Berlin
BEGIN:VEVENT
UID:event8@OGS-Wiesdorf
DTSTAMP:20260421T104119Z
CATEGORIES:Ferien
DESCRIPTION:Osterferien 2. Hälfte (geschlossen)\nKategorie: Ferien\nICS-Lin
 k: https://ogs-wiesdorf.de/index.php?option=com_jem&view=event&id=8:osterf
 erien-2-haelfte-geschlossen\n
DTSTART;VALUE=DATE:20170418
DTEND;VALUE=DATE:20170422
SUMMARY:Osterferien 2. Hälfte (geschlossen)
URL:https://ogs-wiesdorf.de/index.php?option=com_jem&view=event&id=8:osterf
 erien-2-haelfte-geschlossen
END:VEVENT
END:VCALENDAR