BEGIN:VCALENDAR
VERSION:2.0
PRODID:-//178.254.10.74//NONSGML kigkonsult.se iCalcreator 2.20//
CALSCALE:GREGORIAN
METHOD:PUBLISH
X-WR-TIMEZONE:Europe/Berlin
BEGIN:VEVENT
UID:event88@OGS-Wiesdorf
DTSTAMP:20260424T011201Z
CATEGORIES:Ferien
DESCRIPTION:1. beweglicher Ferientag KGS  und GGS (OGS geöffnet)\nKategorie
 : Ferien\nICS-Link: https://ogs-wiesdorf.de/index.php?option=com_jem&view=
 event&id=88:1-beweglicher-ferientag-ogs-geoeffnet\n
DTSTART;VALUE=DATE:20210212
DTEND;VALUE=DATE:20210213
SUMMARY:1. beweglicher Ferientag KGS  und GGS (OGS geöffnet)
URL:https://ogs-wiesdorf.de/index.php?option=com_jem&view=event&id=88:1-bew
 eglicher-ferientag-ogs-geoeffnet
END:VEVENT
END:VCALENDAR