BEGIN:VCALENDAR
VERSION:2.0
PRODID:-//178.254.10.74//NONSGML kigkonsult.se iCalcreator 2.20//
CALSCALE:GREGORIAN
METHOD:PUBLISH
X-WR-TIMEZONE:Europe/Berlin
BEGIN:VEVENT
UID:event50@OGS-Wiesdorf
DTSTAMP:20260421T230647Z
CATEGORIES:Ferien
DESCRIPTION:Allerheiligen (OGS geschlossen)\nKategorie: Ferien\nICS-Link: h
 ttps://ogs-wiesdorf.de/index.php?option=com_jem&view=event&id=50:allerheil
 igen-ogs-geschlossen\n
DTSTART;VALUE=DATE:20181101
DTEND;VALUE=DATE:20181102
SUMMARY:Allerheiligen (OGS geschlossen)
URL:https://ogs-wiesdorf.de/index.php?option=com_jem&view=event&id=50:aller
 heiligen-ogs-geschlossen
END:VEVENT
END:VCALENDAR