BEGIN:VCALENDAR
VERSION:2.0
PRODID:-//178.254.10.74//NONSGML kigkonsult.se iCalcreator 2.20//
CALSCALE:GREGORIAN
METHOD:PUBLISH
X-WR-TIMEZONE:Europe/Berlin
BEGIN:VEVENT
UID:event4@OGS-Wiesdorf
DTSTAMP:20260420T121515Z
CATEGORIES:Ferien
DESCRIPTION:Herbstferien 1. Hälfte (offen)\nKategorie: Ferien\nICS-Link: ht
 tps://ogs-wiesdorf.de/index.php?option=com_jem&view=event&id=4:herbstferie
 n-1-haelfte-offen\n
DTSTART;TZID=Europe/Berlin:20161010T073000
DTEND;TZID=Europe/Berlin:20161014T163000
SUMMARY:Herbstferien 1. Hälfte (offen)
URL:https://ogs-wiesdorf.de/index.php?option=com_jem&view=event&id=4:herbst
 ferien-1-haelfte-offen
END:VEVENT
END:VCALENDAR