BEGIN:VCALENDAR
VERSION:2.0
PRODID:-//178.254.10.74//NONSGML kigkonsult.se iCalcreator 2.20//
CALSCALE:GREGORIAN
METHOD:PUBLISH
X-WR-TIMEZONE:Europe/Berlin
BEGIN:VEVENT
UID:event49@OGS-Wiesdorf
DTSTAMP:20260423T085815Z
CATEGORIES:Ferien
DESCRIPTION:Herbstferien (OGS geschlossen)\nKategorie: Ferien\nICS-Link: ht
 tps://ogs-wiesdorf.de/index.php?option=com_jem&view=event&id=49:herbstferi
 en-ogs-geschlossen\n
DTSTART;VALUE=DATE:20181022
DTEND;VALUE=DATE:20181027
SUMMARY:Herbstferien (OGS geschlossen)
URL:https://ogs-wiesdorf.de/index.php?option=com_jem&view=event&id=49:herbs
 tferien-ogs-geschlossen
END:VEVENT
END:VCALENDAR