BEGIN:VCALENDAR
VERSION:2.0
PRODID:-//178.254.10.74//NONSGML kigkonsult.se iCalcreator 2.20//
CALSCALE:GREGORIAN
METHOD:PUBLISH
X-WR-TIMEZONE:Europe/Berlin
BEGIN:VEVENT
UID:event48@OGS-Wiesdorf
DTSTAMP:20260423T160725Z
CATEGORIES:Ferien
DESCRIPTION:Herbstferien (OGS geöffnet)\nKategorie: Ferien\nICS-Link: https
 ://ogs-wiesdorf.de/index.php?option=com_jem&view=event&id=48:herbstferien-
 ogs-geoeffnet\n
DTSTART;TZID=Europe/Berlin:20181015T073000
DTEND;TZID=Europe/Berlin:20181019T163000
SUMMARY:Herbstferien (OGS geöffnet)
URL:https://ogs-wiesdorf.de/index.php?option=com_jem&view=event&id=48:herbs
 tferien-ogs-geoeffnet
END:VEVENT
END:VCALENDAR