BEGIN:VCALENDAR
VERSION:2.0
PRODID:-//178.254.10.74//NONSGML kigkonsult.se iCalcreator 2.20//
CALSCALE:GREGORIAN
METHOD:PUBLISH
X-WR-TIMEZONE:Europe/Berlin
BEGIN:VEVENT
UID:event45@OGS-Wiesdorf
DTSTAMP:20260426T025551Z
CATEGORIES:Ferien
DESCRIPTION:Sommerferien 2018 (OGS geschlossen)\nKategorie: Ferien\nICS-Lin
 k: https://ogs-wiesdorf.de/index.php?option=com_jem&view=event&id=45:somme
 rferien-2018-ogs-geschlossen\n
DTSTART;VALUE=DATE:20180806
DTEND;VALUE=DATE:20180829
SUMMARY:Sommerferien 2018 (OGS geschlossen)
URL:https://ogs-wiesdorf.de/index.php?option=com_jem&view=event&id=45:somme
 rferien-2018-ogs-geschlossen
END:VEVENT
END:VCALENDAR