BEGIN:VCALENDAR
VERSION:2.0
PRODID:-//178.254.10.74//NONSGML kigkonsult.se iCalcreator 2.20//
CALSCALE:GREGORIAN
METHOD:PUBLISH
X-WR-TIMEZONE:Europe/Berlin
BEGIN:VEVENT
UID:event44@OGS-Wiesdorf
DTSTAMP:20260421T105016Z
CATEGORIES:Ferien
DESCRIPTION:Sommerferien 2018 (OGS geöffnet 7:30-16:30)\nKategorie: Ferien
 \nICS-Link: https://ogs-wiesdorf.de/index.php?option=com_jem&view=event&id
 =44:sommerferien-2018-ogs-geoeffnet-7-30-16-30\n
DTSTART;VALUE=DATE:20180716
DTEND;VALUE=DATE:20180804
SUMMARY:Sommerferien 2018 (OGS geöffnet 7:30-16:30)
URL:https://ogs-wiesdorf.de/index.php?option=com_jem&view=event&id=44:somme
 rferien-2018-ogs-geoeffnet-7-30-16-30
END:VEVENT
END:VCALENDAR