BEGIN:VCALENDAR
VERSION:2.0
PRODID:-//178.254.10.74//NONSGML kigkonsult.se iCalcreator 2.20//
CALSCALE:GREGORIAN
METHOD:PUBLISH
X-WR-TIMEZONE:Europe/Berlin
BEGIN:VEVENT
UID:event22@OGS-Wiesdorf
DTSTAMP:20260420T110240Z
CATEGORIES:Ferien
DESCRIPTION:Rosenmontag (OGS geschlossen)\nKategorie: Ferien\nICS-Link: htt
 ps://ogs-wiesdorf.de/index.php?option=com_jem&view=event&id=22:rosenmontag
 -ogs-geschlossen\n
DTSTART;VALUE=DATE:20180212
DTEND;VALUE=DATE:20180213
SUMMARY:Rosenmontag (OGS geschlossen)
URL:https://ogs-wiesdorf.de/index.php?option=com_jem&view=event&id=22:rosen
 montag-ogs-geschlossen
END:VEVENT
END:VCALENDAR