BEGIN:VCALENDAR
VERSION:2.0
PRODID:-//178.254.10.74//NONSGML kigkonsult.se iCalcreator 2.20//
CALSCALE:GREGORIAN
METHOD:PUBLISH
X-WR-TIMEZONE:Europe/Berlin
BEGIN:VEVENT
UID:event14@OGS-Wiesdorf
DTSTAMP:20260424T160812Z
CATEGORIES:Ferien
DESCRIPTION:4. Beweglicher Ferientag (offen NUR KGS)\nKategorie: Ferien\nIC
 S-Link: https://ogs-wiesdorf.de/index.php?option=com_jem&view=event&id=14:
 4-beweglicher-ferientag-offen-nur-kgs\n
DTSTART;TZID=Europe/Berlin:20170616T073000
DTEND;TZID=Europe/Berlin:20170616T163000
SUMMARY:4. Beweglicher Ferientag (offen NUR KGS)
URL:https://ogs-wiesdorf.de/index.php?option=com_jem&view=event&id=14:4-bew
 eglicher-ferientag-offen-nur-kgs
END:VEVENT
END:VCALENDAR